BEGIN:VCALENDAR
VERSION:2.0
PRODID:-//Tango in Ingolstadt - ECPv6.13.2.1//NONSGML v1.0//EN
CALSCALE:GREGORIAN
METHOD:PUBLISH
X-WR-CALNAME:Tango in Ingolstadt
X-ORIGINAL-URL:https://in-tango.de
X-WR-CALDESC:Veranstaltungen für Tango in Ingolstadt
REFRESH-INTERVAL;VALUE=DURATION:PT1H
X-Robots-Tag:noindex
X-PUBLISHED-TTL:PT1H
BEGIN:VTIMEZONE
TZID:Europe/Berlin
BEGIN:DAYLIGHT
TZOFFSETFROM:+0100
TZOFFSETTO:+0200
TZNAME:CEST
DTSTART:20250330T010000
END:DAYLIGHT
BEGIN:STANDARD
TZOFFSETFROM:+0200
TZOFFSETTO:+0100
TZNAME:CET
DTSTART:20251026T010000
END:STANDARD
END:VTIMEZONE
BEGIN:VEVENT
DTSTART;TZID=Europe/Berlin:20250419T193000
DTEND;TZID=Europe/Berlin:20250419T193000
DTSTAMP:20260423T145058
CREATED:20170906T020658Z
LAST-MODIFIED:20250415T075356Z
UID:16063-1745091000-1745091000@in-tango.de
SUMMARY:Praktika mit Julia & Eric
DESCRIPTION:Übungsabend / Diese Woch zur Abwechslung als Praktika mit Julia & Eric\n\nDen Kar-Samstag Abend könnt Ihr ausnahmsweise für eine Praktika mit Julia & Eric nutzen:\n \nEin Abend zum Üben unter Anleitung von Julia und Eric !!\nIhr könnt fragen\, die Kursinhalte unter Anleitung wiederholen\, oder einfach ganz normal üben!!\nNutzt die Gelegenheit und laßt Euch von den Lehrern nochmal helfen !!\n(in der Tanzwerkstatt\, Manggasse 8\, 85049 Ingolstadt) \n Kosten:\nFür Vereinsmitglieder 5\,00 Euro\,\nFür Nichtmitglieder 10\,00 Euro.\n\nKursleitung:  Julia & Eric\n \nKontakt / Info / Anmeldung:\ninfo@IN-Tango.de\nTel. 0178-9226333 oder 0841-9815955 (Katrin) \nüber die Signal-Gruppe:\nAktuelle Informationen und Änderungen erfahrt Ihr am schnellsten über die Signalgruppe. Die Gruppe dient zur Vernetzung und zum Informationsaustausch unter Mitgliedern und Freunden von Tango in Ingolstadt e.V.\nUm zur Gruppe hinzugefügt zu werden schickt bitte Eure Telefonnummer mit Namen an:\nin-go-tan-go@t-online.de \n 
URL:https://in-tango.de/event/uebungsabend-2/
LOCATION:Tanzwerkstatt\, Manggasse 8\, 85049 Ingolstadt\, Bayern\, Deutschland
CATEGORIES:Übungsabend,Unterricht
ATTACH;FMTTYPE=image/jpeg:https://in-tango.de/wp-content/uploads/2020/01/F2F8371-e1679788697306.jpg
END:VEVENT
END:VCALENDAR