BEGIN:VCALENDAR
VERSION:2.0
PRODID:-//Tango in Ingolstadt - ECPv6.13.2.1//NONSGML v1.0//EN
CALSCALE:GREGORIAN
METHOD:PUBLISH
X-ORIGINAL-URL:https://in-tango.de
X-WR-CALDESC:Veranstaltungen für Tango in Ingolstadt
REFRESH-INTERVAL;VALUE=DURATION:PT1H
X-Robots-Tag:noindex
X-PUBLISHED-TTL:PT1H
BEGIN:VTIMEZONE
TZID:Europe/Berlin
BEGIN:DAYLIGHT
TZOFFSETFROM:+0100
TZOFFSETTO:+0200
TZNAME:CEST
DTSTART:20250330T010000
END:DAYLIGHT
BEGIN:STANDARD
TZOFFSETFROM:+0200
TZOFFSETTO:+0100
TZNAME:CET
DTSTART:20251026T010000
END:STANDARD
END:VTIMEZONE
BEGIN:VEVENT
DTSTART;TZID=Europe/Berlin:20250510T193000
DTEND;TZID=Europe/Berlin:20250510T193000
DTSTAMP:20260423T121305
CREATED:20220918T231706Z
LAST-MODIFIED:20250510T085420Z
UID:16203-1746905400-1746905400@in-tango.de
SUMMARY:Orga-Sitzung VIVA la VIDA
DESCRIPTION:!!! ACHTUNG – Ortswechsel !!!\nDie Innenstadt ist heute bis mind. 21 Uhr wegen des Halbmarathons gesperrt\, die Parkplatz-Situation ist schwierig. Deshalb verlegen wir die Sitzung zu Katrin und Dieter in die Hennenbühlstraße 14 !!! \n…   …   …   …   …   …   …   …   …\n \nLiebe Mitglieder und Freunde von Tango in Ingolstadt e.V.\, \nWir laden Euch herzlich ein zur VIVA la VIDA 2025 – Orga-Sitzung  und bitten um Eure rege Teilnahme.\n\n\nWann:   Samstag\, 10. Mai 2025 um 19:30 Uhr\nWo:  Hennenbühlstraße 14\nin 85051 Ingolstadt -Unsernherrn\n(gelbes Eckhaus\, Eingang von der Sandstraße)\n\n \n Damit wir Platz- und Essensbedarf planen können bitten wir noch kurzfristig um Eure Anmeldung.  DANKE ! \nIm Anschluß an die Sitzung darf noch getanzt werden!! Wir machen so schnell wie möglich\, damit es nicht so spät wird und noch genug Zeit zum Tanzen bleibt;  und wir holen uns Pizza von unten\, damit niemand hungern muß\, und Wein dazu gibts auch. Also gute Aussichten auf einen geselligen Abend!  🙂\n \n\n\n.\n…   …   …   …   …   …   …   …   …\n.\nFolgende Themen sind zu besprechen: \n„Viva la Vida“ – Festival – Organisation /\nMithilfe durch Vereinsmitglieder: \n– Aufbau Open Air am Donnerstag Nachmittag\n– Abbau Open Air Donnerstag Abend\n– Aufbau / Deko im Manchinger Hof am Donnerstag Vormittag\n– Abbau Manchinger Hof am Sonntag Abend\n– Fahrdienst für Musiker / evtl. auch vom Flughafen abholen\n– Kassendienst stundenweise\n–  Künstlerbetreuung\n– Essen kochen für Musiker bei Cheryl\n– Stadtführungen\n– Foto / Videos\n– … … … etc. … usw. \n. \n…   …   …   …   …   …   …   …   …\n\n\n\n\n\n\n\n.\n\n\n\nHerzliche Grüße\,\nEuer Vorstand\n\n\n\nKatrin\, Birgit und Paul\n\n\n\n\n\n\n\n\n 
URL:https://in-tango.de/event/orga-sitzung-viva-la-vida/
LOCATION:Hennenbühlstrasse 14\, Hennenbühlstrasse 14\, 85051 Ingolstadt\, Deutschland
CATEGORIES:Sonstiges
ATTACH;FMTTYPE=image/jpeg:https://in-tango.de/wp-content/uploads/2024/05/Orga-Sitzung-VIVA-la-VIDA-scaled-e1714565335487.jpg
END:VEVENT
END:VCALENDAR