BEGIN:VCALENDAR
VERSION:2.0
PRODID:-//Tango in Ingolstadt - ECPv6.13.2.1//NONSGML v1.0//EN
CALSCALE:GREGORIAN
METHOD:PUBLISH
X-ORIGINAL-URL:https://in-tango.de
X-WR-CALDESC:Veranstaltungen für Tango in Ingolstadt
REFRESH-INTERVAL;VALUE=DURATION:PT1H
X-Robots-Tag:noindex
X-PUBLISHED-TTL:PT1H
BEGIN:VTIMEZONE
TZID:Europe/Berlin
BEGIN:DAYLIGHT
TZOFFSETFROM:+0100
TZOFFSETTO:+0200
TZNAME:CEST
DTSTART:20250330T010000
END:DAYLIGHT
BEGIN:STANDARD
TZOFFSETFROM:+0200
TZOFFSETTO:+0100
TZNAME:CET
DTSTART:20251026T010000
END:STANDARD
END:VTIMEZONE
BEGIN:VEVENT
DTSTART;TZID=Europe/Berlin:20250521T204500
DTEND;TZID=Europe/Berlin:20250521T204500
DTSTAMP:20260423T121944
CREATED:20170906T015643Z
LAST-MODIFIED:20250430T130320Z
UID:16207-1747860300-1747860300@in-tango.de
SUMMARY:MILONGA "La Escondida En Vivo" mit Paula Gluzman & Pablo Schiaffino
DESCRIPTION:Tango in Ingolstadt e.V. lädt Euch ein zur  \nMilonga „La Escondida En Vivo“ mit einer Variation des Duo Ranas:  „Paula Gluzman & Pablo Schiaffino“\nam 21. Mai 2025 um 20:45 Uhr \nim Bürgerhaus Neuburger Kasten\n(Fechtgasse 6\, 85049 Ingolstadt\, 2.Stock) \n  \nEs gibt kaum eine Bühne in Buenos Aires wo sie nicht schon aufgetreten sind: \nDUO RANAS ist ein kraftvolles und tanzbares Tango-Duo aus Buenos Aires\, normalerweise bestehend aus Pablo Schiaffino (Piano\, Arrangeur und Komponist) und Leandro Schnaider (Bandoneon\, Arrangeur und Komponist). \nAuf dieser Tour ist Leandro aus gesundheitlichen Gründen verhindert\, er wird vertreten durch Paula Gluzman (Bandoneon).\n. . . . . \nDúo Ranas is a powerful and rhythmic tango duo from Buenos Aires\, with 18 years of experience\, 31 European tours\, four albums\, and a strong presence in the current milonguera scene. \nThis time\, it will be made up of Pablo Schiaffino on piano and Paula Gluzman on bandoneon\, replacing Leandro Schnaider on this tour. \nThe Ranas duo will always be under the banner of the endless dialogue that springs from their instruments\, respecting Ranas‘ original arrangements and the danceable essence that has characterized them so much.\n. . . . . \nWir freuen uns schon und sind gespannt auf die Musik von Paula & Pablo!!!\n \nHier könnt ihr schon mal horchen:  Duo Ranas (www.ranastango.com.ar) \n  \n        Paula Gluzman          Duo Ranas            Paula Gluzman          Pablo Schiaffino          Duo Ranas     \nBeginn der Veranstaltung ist um 20:45 Uhr.\n \nTraditionelle Tandas vor und nach dem Liveset. \nEintritt:   Bitte eine großzügige Spende in den Hut für die Musiker !! \nMit Häppchen-Buffet  –  mitgebrachte  Leckereien zur Aufrechterhaltung der Tanz- und Kommunikations-Energie finden regen Zuspruch  ;-)) \nWir freuen uns auf einen besonderen Abend mit Euch und mit einer neuen Version von Duo Ranas: Pablo Schiaffino und Paula Gluzman !!!\n \n  \nHinweis:\nWir verlangen keinen Eintritt. Wir rechnen aber fest damit\, daß Ihr die Leistung der Musiker mit Eurer Spende angemessen honoriert !\nWenn Ihr Euch unsicher über die Höhe Eurer Spende seid\, hier ein Anhaltspunkt:  eine Spende von ca. 15-20 Euro sind angemessen.  Wenn das Euer Budget übersteigt\, dann gebt eben das\, was Ihr Euch leisten und mit Eurem Gewissen vereinbaren könnt. \n 
URL:https://in-tango.de/event/la-escondida-en-vivo-mit-paula-gluzman-und-pablo-schiaffino/
LOCATION:Bürgerhaus Neuburger Kasten\, Fechtgasse 6\, 85049 Ingolstadt
CATEGORIES:Milonga mit Live-Musik
ATTACH;FMTTYPE=image/png:https://in-tango.de/wp-content/uploads/2025/04/Objekt-e1745977490650.png
END:VEVENT
END:VCALENDAR