BEGIN:VCALENDAR
VERSION:2.0
PRODID:-//Tango in Ingolstadt - ECPv6.13.2.1//NONSGML v1.0//EN
CALSCALE:GREGORIAN
METHOD:PUBLISH
X-WR-CALNAME:Tango in Ingolstadt
X-ORIGINAL-URL:https://in-tango.de
X-WR-CALDESC:Veranstaltungen für Tango in Ingolstadt
REFRESH-INTERVAL;VALUE=DURATION:PT1H
X-Robots-Tag:noindex
X-PUBLISHED-TTL:PT1H
BEGIN:VTIMEZONE
TZID:Europe/Berlin
BEGIN:DAYLIGHT
TZOFFSETFROM:+0100
TZOFFSETTO:+0200
TZNAME:CEST
DTSTART:20250330T010000
END:DAYLIGHT
BEGIN:STANDARD
TZOFFSETFROM:+0200
TZOFFSETTO:+0100
TZNAME:CET
DTSTART:20251026T010000
END:STANDARD
END:VTIMEZONE
BEGIN:VEVENT
DTSTART;TZID=Europe/Berlin:20250604T204500
DTEND;TZID=Europe/Berlin:20250604T204500
DTSTAMP:20260423T105207
CREATED:20170906T015643Z
LAST-MODIFIED:20250514T011154Z
UID:16260-1749069900-1749069900@in-tango.de
SUMMARY:Milonga "La Escondida en Vivo" mit Miguel Pesce
DESCRIPTION:Tango in Ingolstadt e.V. lädt Euch ein zur  \nMilonga „La Escondida En Vivo“ mit Special Guest  MIGUEL PESCE  aus Buenos Aires. \nam 04. Juni 2025 um 20:45 Uhr \nim Bürgerhaus Neuburger Kasten\n(Fechtgasse 6\, 85049 Ingolstadt\, 2.Stock) \nMiguel ist seit 2018 regelmäßig zu Gast bei uns und hat unsere Tangoabende mit seinen Gitarrenklängen verzaubert – wir freuen uns\, ihn am 04. Juni 2025 wieder bei uns begrüßen zu dürfen! \n  \nMiguel Pesce\nabsolvierte das Conservatorio Juan José Castro von Lucila\, wo er bei Maestro Victor Villadangos studierte. Sein Studium schloss er in den Richtungen Tango und Jazz an der School of Popular Music von Avellaneda ab. Er trat im Quartett „Montserrat“ (Folklore Rioplatense) mit Vicente Correa (ehemaliger Gitarrist Alfredo Zitarrosa) und Gustavo Nasuti auf. Gemeinsam veröffentlichten sie zwei CDs mit namhaften Gästen wie Juan Falu und Silvia Iriondo.\nDerzeit lehrt Miguel Pesce Gitarre am Institut für Bildnerische Erziehung in der Provinz Buenos Aires. Er unterrichtet eine Gruppe Musikstudierender (Dino Saluzzi) an der UNSAM(Universidad Nacional de San Martín/Buenos Aires\, Argentinien). Außerdem spielt er – auf seiner diesjährigen Europa-Tournee bereits zum elften Mal – Solokonzerte in Deutschland\, der Schweiz\, Belgien\, Frankreich\, Luxemburg\, Griechenland\, Dänemark\, Holland und Italien und tritt mit Tango-Formationen in Uruguay auf.\nMiguel Pesce war übrigens auch der Lehrer von einigen jungen Musikern\, die bereits bei unseren Live-Specials für uns gespielt haben\, wie z.B. Sebastian Perez (Duo Océano)\, Pablo Cardozo (Duo Brotzman-Cardozo)\, Fernando Sanchez (Duo Tanino). \n  \n                        \nBeginn der Veranstaltung ist um 20:45 Uhr\n \nTraditionelle Tandas zwischen den Livesets. \nEintritt:   Bitte eine großzügige Spende in den Hut !! \nMit Häppchen-Buffet  –  mitgebrachte  Leckereien zur Aufrechterhaltung der Tanz- und Kommunikations-Energie finden regen Zuspruch  ;-)) \nWir freuen uns auf einen besonderen Abend mit Euch und mit Miguel Pesce.\n \n  \nHinweis:\nWir verlangen keinen Eintritt. Wir rechnen aber fest damit\, daß Ihr die Leistung der Musiker mit Eurer Spende angemessen honoriert !\nWenn Ihr Euch unsicher über die Höhe Eurer Spende seid\, hier ein Anhaltspunkt:  eine Spende von ca. 15 Euro sind angemessen.  Wenn das Euer Budget übersteigt\, dann gebt eben das\, was Ihr Euch leisten und mit Eurem Gewissen vereinbaren könnt. \n  \n 
URL:https://in-tango.de/event/milonga-la-escondida-en-vivo-mit-miguel-pesce/
LOCATION:Bürgerhaus Neuburger Kasten\, Fechtgasse 6\, 85049 Ingolstadt
CATEGORIES:Milonga mit Live-Musik
ATTACH;FMTTYPE=image/jpeg:https://in-tango.de/wp-content/uploads/2018/09/Miguel-Pesce1.jpg
END:VEVENT
END:VCALENDAR